BEGIN:VCALENDAR
VERSION:2.0
PRODID:-//Sumas First Nation - ECPv6.15.16//NONSGML v1.0//EN
CALSCALE:GREGORIAN
METHOD:PUBLISH
X-WR-CALNAME:Sumas First Nation
X-ORIGINAL-URL:https://sumasfirstnation.com
X-WR-CALDESC:Events for Sumas First Nation
REFRESH-INTERVAL;VALUE=DURATION:PT1H
X-Robots-Tag:noindex
X-PUBLISHED-TTL:PT1H
BEGIN:VTIMEZONE
TZID:America/Vancouver
BEGIN:DAYLIGHT
TZOFFSETFROM:-0800
TZOFFSETTO:-0700
TZNAME:PDT
DTSTART:20250309T100000
END:DAYLIGHT
BEGIN:STANDARD
TZOFFSETFROM:-0700
TZOFFSETTO:-0800
TZNAME:PST
DTSTART:20251102T090000
END:STANDARD
BEGIN:DAYLIGHT
TZOFFSETFROM:-0800
TZOFFSETTO:-0700
TZNAME:PDT
DTSTART:20260308T100000
END:DAYLIGHT
BEGIN:STANDARD
TZOFFSETFROM:-0700
TZOFFSETTO:-0800
TZNAME:PST
DTSTART:20261101T090000
END:STANDARD
BEGIN:DAYLIGHT
TZOFFSETFROM:-0800
TZOFFSETTO:-0700
TZNAME:PDT
DTSTART:20270314T100000
END:DAYLIGHT
BEGIN:STANDARD
TZOFFSETFROM:-0700
TZOFFSETTO:-0800
TZNAME:PST
DTSTART:20271107T090000
END:STANDARD
END:VTIMEZONE
BEGIN:VEVENT
DTSTART;TZID=America/Vancouver:20260221T080000
DTEND;TZID=America/Vancouver:20260222T160000
DTSTAMP:20260222T150407
CREATED:20260105T233236Z
LAST-MODIFIED:20260105T234512Z
UID:9377-1771660800-1771776000@sumasfirstnation.com
SUMMARY:Indigenous Youth Entrepreneurship Workshop Series *Weekend 1*
DESCRIPTION:SCF recently hosted a successful IYE workshop series on Stólō Territory in November\, and we are pleased to be offering a free 4-day workshop\, delivered over two weekends\, for Indigenous youth who are interested in exploring entrepreneurship\, business ideas\, or self-employment.  \n\n\n\n\n\n\n\n\n\n\n\n\n\n\n\n\n\nWeekend 1: Feb 21 & 22\, 2026 Weekend 2: Feb 28 & Mar 1\, 2026 Location: Katzie Health & Community Centre Gym\, 19700A Salish Road\, Pitt Meadows\, BC V3Y 2G6  \n\n\n\nThis is a FREE workshop open to all First Nations\, Metis\, and Inuit youth ages 18-39 within Sto:lo Territory. Meals\, swag\, and door prizes. See attached flyer for details on workshops.  \n\n\n\nRegister now through the QR code on the attached flyer\, or contact Harley Kazonay (Business Support Officer): hkazonay@stolocf.ca OR 604-824-5104.
URL:https://sumasfirstnation.com/events/indigenous-youth-entrepreneurship-workshop-series/
LOCATION:British Columbia
ATTACH;FMTTYPE=image/png:https://sumasfirstnation.com/wp-content/uploads/2026/01/App-FB-Media-18.png
END:VEVENT
BEGIN:VEVENT
DTSTART;TZID=America/Vancouver:20260228T080000
DTEND;TZID=America/Vancouver:20260301T160000
DTSTAMP:20260222T150407
CREATED:20260105T234123Z
LAST-MODIFIED:20260105T234704Z
UID:9383-1772265600-1772380800@sumasfirstnation.com
SUMMARY:Indigenous Youth Entrepreneurship Workshop Series *Weekend 2*
DESCRIPTION:SCF recently hosted a successful IYE workshop series on Stólō Territory in November\, and we are pleased to be offering a free 4-day workshop\, delivered over two weekends\, for Indigenous youth who are interested in exploring entrepreneurship\, business ideas\, or self-employment. \n\n\n\n\n\n\n\n\n\n\n\n\n\n\n\n\n\nWeekend 1: Feb 21 & 22\, 2026Weekend 2: Feb 28 & Mar 1\, 2026Location: Katzie Health & Community Centre Gym\, 19700A Salish Road\, Pitt Meadows\, BC V3Y 2G6 \n\n\n\nThis is a FREE workshop open to all First Nations\, Metis\, and Inuit youth ages 18-39 within Sto:lo Territory. Meals\, swag\, and door prizes. See attached flyer for details on workshops. \n\n\n\nRegister now through the QR code on the attached flyer\, or contact Harley Kazonay (Business Support Officer): hkazonay@stolocf.ca OR 604-824-5104.
URL:https://sumasfirstnation.com/events/indigenous-youth-entrepreneurship-workshop-series-weekend-2/
LOCATION:British Columbia
ATTACH;FMTTYPE=image/png:https://sumasfirstnation.com/wp-content/uploads/2026/01/App-FB-Media-18-1.png
END:VEVENT
BEGIN:VEVENT
DTSTART;TZID=America/Vancouver:20260310T120000
DTEND;TZID=America/Vancouver:20260310T190000
DTSTAMP:20260222T150407
CREATED:20260106T000812Z
LAST-MODIFIED:20260106T000850Z
UID:9421-1773144000-1773169200@sumasfirstnation.com
SUMMARY:Indigenous Women Entrepreneurship Workshop
DESCRIPTION:Epowering indigenous women to build\, grow\, and thrive in business! The Indigenous Women Entrepreneurship Workshop is being held in collaboration with Stó:lō Community Futures. \n\n\n\nLOCATION: Sumas First Nation Admin Building Boardroom (2788 Sumas Mountain Rd)TIMES: Workshop runs from 12pm-7pm each day listed belowWORKSHOP DATES: below \n\n\n\n\nJanuary 20 OR 28 (Introduction to Entrepreneurship)\n\n\n\nFebruary 10 (Day 1: Financial Capabilities in Entrepreneurship)\n\n\n\nFebruary 17 (Day 2: Financial Capabilities in Entrepreneurship)\n\n\n\nMarch 10 (Day 1: Digital Event & Marketing Strategies)\n\n\n\nMarch 17 (Day 2: Digital Event & Marketing Strategies)\n\n\n\n\nREGISTRATION Spots are limited! Please contact Cynthia Robinson with Stó:lō Community Futures to register: crobinson@stolocf.ca or (604) 824-9177.
URL:https://sumasfirstnation.com/events/indigenous-women-entrepreneurship-workshop-4/
LOCATION:British Columbia
ATTACH;FMTTYPE=image/png:https://sumasfirstnation.com/wp-content/uploads/2026/01/App-FB-Media-19-4.png
END:VEVENT
BEGIN:VEVENT
DTSTART;TZID=America/Vancouver:20260317T120000
DTEND;TZID=America/Vancouver:20260317T190000
DTSTAMP:20260222T150407
CREATED:20260106T001059Z
LAST-MODIFIED:20260106T001103Z
UID:9428-1773748800-1773774000@sumasfirstnation.com
SUMMARY:Indigenous Women Entrepreneurship Workshop
DESCRIPTION:Epowering indigenous women to build\, grow\, and thrive in business! The Indigenous Women Entrepreneurship Workshop is being held in collaboration with Stó:lō Community Futures. \n\n\n\nLOCATION: Sumas First Nation Admin Building Boardroom (2788 Sumas Mountain Rd)TIMES: Workshop runs from 12pm-7pm each day listed belowWORKSHOP DATES: below \n\n\n\n\nJanuary 20 OR 28 (Introduction to Entrepreneurship)\n\n\n\nFebruary 10 (Day 1: Financial Capabilities in Entrepreneurship)\n\n\n\nFebruary 17 (Day 2: Financial Capabilities in Entrepreneurship)\n\n\n\nMarch 10 (Day 1: Digital Event & Marketing Strategies)\n\n\n\nMarch 17 (Day 2: Digital Event & Marketing Strategies)\n\n\n\n\nREGISTRATION Spots are limited! Please contact Cynthia Robinson with Stó:lō Community Futures to register: crobinson@stolocf.ca or (604) 824-9177.
URL:https://sumasfirstnation.com/events/indigenous-women-entrepreneurship-workshop-5/
LOCATION:British Columbia
ATTACH;FMTTYPE=image/png:https://sumasfirstnation.com/wp-content/uploads/2026/01/App-FB-Media-19-5.png
END:VEVENT
BEGIN:VEVENT
DTSTART;TZID=America/Vancouver:20260324T170000
DTEND;TZID=America/Vancouver:20260324T200000
DTSTAMP:20260222T150407
CREATED:20260106T175555Z
LAST-MODIFIED:20260106T175559Z
UID:9451-1774371600-1774382400@sumasfirstnation.com
SUMMARY:Quarterly Band Meeting
DESCRIPTION:Please join us for our Quarterly Band Meeting on March 24\, 2026. We will be meeting from 5-8pm (dinner at 5pm) at the Sumas Community Hall. There will also be door prizes!  \n\n\n\nIf you have questions or concerns\, please email Brian Jones (GM): brian.jones@sumasfirstnation.com
URL:https://sumasfirstnation.com/events/quarterly-band-meeting/
LOCATION:Sumas First Nation Community Hall\, 2800 Sumas Mountain Road\, Abbotsford\, British Columbia\, V3G 2J2\, Canada
ATTACH;FMTTYPE=image/png:https://sumasfirstnation.com/wp-content/uploads/2026/01/App-FB-Media-23.png
END:VEVENT
BEGIN:VEVENT
DTSTART;TZID=America/Vancouver:20260507T140000
DTEND;TZID=America/Vancouver:20260507T180000
DTSTAMP:20260222T150407
CREATED:20260203T171831Z
LAST-MODIFIED:20260203T172623Z
UID:9638-1778162400-1778176800@sumasfirstnation.com
SUMMARY:SXDL/Semá:th Career Fair
DESCRIPTION:Join us Thursday\, May 7th at the Sumas Community Hall (2800 Sumas Mountain Rd) for the Sema:th Career Fair! We’ll have in-person interview and resume writing support\, potential employers and others with available job opportunities\, door prizes\, and more! \n\n\n\nIf you would like to register to host a booth/table at the event\, please contact Dale Ganzeveld (dale.ganzeveld@sxdl.ca)
URL:https://sumasfirstnation.com/events/sxdl-semath-career-fair/
LOCATION:Sumas First Nation Community Hall\, 2800 Sumas Mountain Road\, Abbotsford\, British Columbia\, V3G 2J2\, Canada
ATTACH;FMTTYPE=image/png:https://sumasfirstnation.com/wp-content/uploads/2026/02/Event-Image.png
END:VEVENT
BEGIN:VEVENT
DTSTART;TZID=America/Vancouver:20260519T170000
DTEND;TZID=America/Vancouver:20260519T200000
DTSTAMP:20260222T150407
CREATED:20260119T233444Z
LAST-MODIFIED:20260119T233446Z
UID:9558-1779210000-1779220800@sumasfirstnation.com
SUMMARY:Community Town Hall Meeting
DESCRIPTION:Please join us for our Town Hall Meeting on May 19\, 2026. **THIS IS NOT A BAND MEETING**  \n\n\n\nThis Town Hall Meeting is an opportunity to gather\, but does not follow the same agenda and structure as a Band Meeting. We will be meeting from 5-8pm (dinner at 5pm) at the Sumas Community Hall. There will also be door prizes!  \n\n\n\nIf you have questions or concerns\, please email Brian Jones (GM): brian.jones@sumasfirstnation.com
URL:https://sumasfirstnation.com/events/community-town-hall-meeting-2/
LOCATION:Sumas First Nation Community Hall\, 2800 Sumas Mountain Road\, Abbotsford\, British Columbia\, V3G 2J2\, Canada
ATTACH;FMTTYPE=image/png:https://sumasfirstnation.com/wp-content/uploads/2026/01/may-19-2026-town-hall-meeting.png
END:VEVENT
BEGIN:VEVENT
DTSTART;TZID=America/Vancouver:20260623T170000
DTEND;TZID=America/Vancouver:20260623T200000
DTSTAMP:20260222T150407
CREATED:20260119T231452Z
LAST-MODIFIED:20260119T231455Z
UID:9547-1782234000-1782244800@sumasfirstnation.com
SUMMARY:Quarterly Band Meeting
DESCRIPTION:Please join us for our Quarterly Band Meeting on June 23\, 2026. We will be meeting from 5-8pm (dinner at 5pm) at the Sumas Community Hall. There will also be door prizes! If you have questions or concerns\, please email Brian Jones (GM): brian.jones@sumasfirstnation.com
URL:https://sumasfirstnation.com/events/quarterly-band-meeting-2/
LOCATION:Sumas First Nation Community Hall\, 2800 Sumas Mountain Road\, Abbotsford\, British Columbia\, V3G 2J2\, Canada
ATTACH;FMTTYPE=image/png:https://sumasfirstnation.com/wp-content/uploads/2026/01/June-23-2026-quarterly-band-meeting.png
END:VEVENT
BEGIN:VEVENT
DTSTART;TZID=America/Vancouver:20260818T170000
DTEND;TZID=America/Vancouver:20260818T200000
DTSTAMP:20260222T150407
CREATED:20260119T234013Z
LAST-MODIFIED:20260119T234015Z
UID:9563-1787072400-1787083200@sumasfirstnation.com
SUMMARY:Community Town Hall Meeting
DESCRIPTION:Please join us for our Town Hall Meeting on August 18\, 2026. **THIS IS NOT A BAND MEETING**  \n\n\n\nThis Town Hall Meeting is an opportunity to gather\, but does not follow the same agenda and structure as a Band Meeting. We will be meeting from 5-8pm (dinner at 5pm) at the Sumas Community Hall. There will also be door prizes!  \n\n\n\nIf you have questions or concerns\, please email Brian Jones (GM): brian.jones@sumasfirstnation.com
URL:https://sumasfirstnation.com/events/community-town-hall-meeting-3/
LOCATION:Sumas First Nation Community Hall\, 2800 Sumas Mountain Road\, Abbotsford\, British Columbia\, V3G 2J2\, Canada
ATTACH;FMTTYPE=image/png:https://sumasfirstnation.com/wp-content/uploads/2026/01/aug-18-2026-town-hall-meeting.png
END:VEVENT
BEGIN:VEVENT
DTSTART;TZID=America/Vancouver:20261020T170000
DTEND;TZID=America/Vancouver:20261020T200000
DTSTAMP:20260222T150407
CREATED:20260119T234159Z
LAST-MODIFIED:20260119T234201Z
UID:9567-1792515600-1792526400@sumasfirstnation.com
SUMMARY:Community Town Hall Meeting
DESCRIPTION:Please join us for our Town Hall Meeting on October 20\, 2026. **THIS IS NOT A BAND MEETING**  \n\n\n\nThis Town Hall Meeting is an opportunity to gather\, but does not follow the same agenda and structure as a Band Meeting. We will be meeting from 5-8pm (dinner at 5pm) at the Sumas Community Hall. There will also be door prizes!  \n\n\n\nIf you have questions or concerns\, please email Brian Jones (GM): brian.jones@sumasfirstnation.com
URL:https://sumasfirstnation.com/events/community-town-hall-meeting-4/
LOCATION:Sumas First Nation Community Hall\, 2800 Sumas Mountain Road\, Abbotsford\, British Columbia\, V3G 2J2\, Canada
ATTACH;FMTTYPE=image/png:https://sumasfirstnation.com/wp-content/uploads/2026/01/oct-20-2026-town-hall-meeting.png
END:VEVENT
BEGIN:VEVENT
DTSTART;TZID=America/Vancouver:20261208T170000
DTEND;TZID=America/Vancouver:20261208T200000
DTSTAMP:20260222T150407
CREATED:20260119T231753Z
LAST-MODIFIED:20260119T231934Z
UID:9554-1796749200-1796760000@sumasfirstnation.com
SUMMARY:Quarterly Band Meeting
DESCRIPTION:Please join us for our Quarterly Band Meeting on December 8\, 2026. We will be meeting from 5-8pm (dinner at 5pm) at the Sumas Community Hall. There will also be door prizes! \n\n\n\nIf you have questions or concerns\, please email Brian Jones (GM): brian.jones@sumasfirstnation.com
URL:https://sumasfirstnation.com/events/quarterly-band-meeting-3/
LOCATION:Sumas First Nation Community Hall\, 2800 Sumas Mountain Road\, Abbotsford\, British Columbia\, V3G 2J2\, Canada
ATTACH;FMTTYPE=image/png:https://sumasfirstnation.com/wp-content/uploads/2026/01/dec-8-2026-quarterly-band-meeting.png
END:VEVENT
END:VCALENDAR